BEGIN:VCALENDAR
VERSION:2.0
PRODID:-//Sängerin Sandra Patsis - ECPv6.8.3//NONSGML v1.0//EN
CALSCALE:GREGORIAN
METHOD:PUBLISH
X-WR-CALNAME:Sängerin Sandra Patsis
X-ORIGINAL-URL:https://www.sandrapatsis.de
X-WR-CALDESC:Veranstaltungen für Sängerin Sandra Patsis
REFRESH-INTERVAL;VALUE=DURATION:PT1H
X-Robots-Tag:noindex
X-PUBLISHED-TTL:PT1H
BEGIN:VTIMEZONE
TZID:Europe/Berlin
BEGIN:DAYLIGHT
TZOFFSETFROM:+0100
TZOFFSETTO:+0200
TZNAME:CEST
DTSTART:20220327T010000
END:DAYLIGHT
BEGIN:STANDARD
TZOFFSETFROM:+0200
TZOFFSETTO:+0100
TZNAME:CET
DTSTART:20221030T010000
END:STANDARD
BEGIN:DAYLIGHT
TZOFFSETFROM:+0100
TZOFFSETTO:+0200
TZNAME:CEST
DTSTART:20230326T010000
END:DAYLIGHT
BEGIN:STANDARD
TZOFFSETFROM:+0200
TZOFFSETTO:+0100
TZNAME:CET
DTSTART:20231029T010000
END:STANDARD
END:VTIMEZONE
BEGIN:VEVENT
DTSTART;TZID=Europe/Berlin:20230701T140000
DTEND;TZID=Europe/Berlin:20230701T150000
DTSTAMP:20260423T114950
CREATED:20230616T132419Z
LAST-MODIFIED:20230616T132419Z
UID:1641-1688220000-1688223600@www.sandrapatsis.de
SUMMARY:Taufgottesdienst
DESCRIPTION:Bitte ausschließlich Live-Musik\nIch freue mich schon sehr\, am 01. Juli zusammen mit meinem Bandkollegen Marcin Pittel bei einem Taufgottesdienst aufzutreten. \nAnnika\, die Mutter des Täuflings Jan Luca wünscht sich folgende Lieder mit Live-Gesang und Live-Gitarrenbegleitung: \n\nWir wünschen dir Liebe / Sunny Dale\nDu brauchst ein Lied / Rolf Zuckowski\nDie schönste Reise / Helene Fischer\n\nVielen Dank für diese tolle Wertschätzung.
URL:https://www.sandrapatsis.de/event/taufgottesdienst-8/
CATEGORIES:Taufe
END:VEVENT
BEGIN:VEVENT
DTSTART;TZID=Europe/Berlin:20230528T143000
DTEND;TZID=Europe/Berlin:20230528T153000
DTSTAMP:20260423T114950
CREATED:20230130T165454Z
LAST-MODIFIED:20230130T165454Z
UID:1591-1685284200-1685287800@www.sandrapatsis.de
SUMMARY:Traufe (Trauung & Taufe)
DESCRIPTION:Zwei Events an einem Tag\nAm 28. Mai darf ich in Kocherbach\, bei Wald-Michelbach eine Taufe & Trauung gleichzeitig musikalisch umrahmen. \nGefeiert wird eine Hofhochzeit mit Taufe – ich bin schon ganz gespannt und freue mich sehr auf diesen Tag.
URL:https://www.sandrapatsis.de/event/traufe-trauung-taufe/
CATEGORIES:Hochzeit,Taufe,Traufe
END:VEVENT
BEGIN:VEVENT
DTSTART;TZID=Europe/Berlin:20230514T093000
DTEND;TZID=Europe/Berlin:20230514T103000
DTSTAMP:20260423T114950
CREATED:20230316T171841Z
LAST-MODIFIED:20230316T171841Z
UID:1610-1684056600-1684060200@www.sandrapatsis.de
SUMMARY:Taufe
DESCRIPTION:Taufgottesdienst in Rai-Breitenbach\nFür Nathanael singe ich zu seiner Taufe am diesjährigen Muttertag.\nIm ersten Vorgespräch durfte ich den kleinen Mann bereits kennenlernen und hab ihn auch direkt gebobbelt. \nSeine Eltern Samantha & Tim haben sich wunderschöne Titel für ihn ausgesucht: \n\nWenn aus Liebe Leben wird\nMögen Engel dich begleiten\nHalleluja / Taufversion\n\n 
URL:https://www.sandrapatsis.de/event/taufe/
CATEGORIES:Taufe
END:VEVENT
BEGIN:VEVENT
DTSTART;TZID=Europe/Berlin:20221106T100000
DTEND;TZID=Europe/Berlin:20221106T110000
DTSTAMP:20260423T114950
CREATED:20220701T150249Z
LAST-MODIFIED:20220805T133427Z
UID:1473-1667728800-1667732400@www.sandrapatsis.de
SUMMARY:Taufgottesdienst
DESCRIPTION:Wiederbucherin zum fünften Mal\nFür Jana bin ich am 06.11.2021 zum fünften Mal im Einsatz.\nGemeinsam haben wir bereits drei Bestattungen durchlaufen\, ihr eigene standesamtliche Trauung und nun die Taufe Ihrer Tochter Ida. \nIch bin unendlich dankbar für dieses wahnsinnige Vertrauen und die Anerkennung gegenüber meiner Leidenschaft.
URL:https://www.sandrapatsis.de/event/taufgottesdienst-4/
CATEGORIES:Taufe
END:VEVENT
BEGIN:VEVENT
DTSTART;TZID=Europe/Berlin:20221022T100000
DTEND;TZID=Europe/Berlin:20221022T110000
DTSTAMP:20260423T114950
CREATED:20220701T145620Z
LAST-MODIFIED:20220701T145620Z
UID:1471-1666432800-1666436400@www.sandrapatsis.de
SUMMARY:Taufgottesdienst
DESCRIPTION:Der kleine Paul wird getauft\nam 22.10.2022 darf ich die Taufe von Paul musikalisch umrahmen.\nDiesmal bringt mich meine Leidenschaft nach Großeicholzheim – ein Ortsteil der Gemeinde Seckach im Neckar-Odenwald-Kreis in Baden-Württemberg.
URL:https://www.sandrapatsis.de/event/taufgottesdienst-3/
CATEGORIES:Taufe
END:VEVENT
BEGIN:VEVENT
DTSTART;TZID=Europe/Berlin:20221009T100000
DTEND;TZID=Europe/Berlin:20221009T110000
DTSTAMP:20260423T114950
CREATED:20221005T205455Z
LAST-MODIFIED:20221005T205455Z
UID:1518-1665309600-1665313200@www.sandrapatsis.de
SUMMARY:Taufgottesdienst
DESCRIPTION:Vorfreude auf den Taufgottesdienst\nDirekt um 10 Uhr darf ich einen Taufgottesdienst mit diesen beiden Lieder umrahmen: \n\nMögen Engel dich begleiten\nWir wünschen dir Liebe\n\nIm Anschluss geht es weiter zum nächsten Auftritt.\nZusammen mit meiner Band KONFETZ übernehme ich dort die musikalischen Darbietungen bei einer Vereinsfeier im Goldnen Löwen in Arheilgen/Darmstadt.
URL:https://www.sandrapatsis.de/event/taufgottesdienst-6/
CATEGORIES:Taufe
END:VEVENT
BEGIN:VEVENT
DTSTART;TZID=Europe/Berlin:20221001T140000
DTEND;TZID=Europe/Berlin:20221001T150000
DTSTAMP:20260423T114950
CREATED:20220523T160222Z
LAST-MODIFIED:20220523T160222Z
UID:1452-1664632800-1664636400@www.sandrapatsis.de
SUMMARY:Taufgottesdienst
DESCRIPTION:Erstmals bei einer Taufe in Frankfurt am Main im Einsatz\nZum ersten Mal darf ich einen Taufgottesdienst in Frankfurt am Main musikalisch umrahmen. \nIch bin schon sehr gespannt und freue mich folgende Lieder darbieten zu dürfen: \n\nAve Maria / Schubert\nThe Rose / Bette Midler\nDer ewige Kreis / Elton John\, König der Löwen
URL:https://www.sandrapatsis.de/event/taufgottesdienst-2/
CATEGORIES:Taufe
END:VEVENT
BEGIN:VEVENT
DTSTART;TZID=Europe/Berlin:20220904T110000
DTEND;TZID=Europe/Berlin:20220904T120000
DTSTAMP:20260423T114950
CREATED:20220711T123440Z
LAST-MODIFIED:20220711T123440Z
UID:1488-1662289200-1662292800@www.sandrapatsis.de
SUMMARY:Taufgottesdienst
DESCRIPTION:Für drei Täuflinge im Einsatz\nAm 04. September darf ich in der evangelischen Kirche in Höchst im Odenwald für drei Täuflinge singen. Mama Nicole hat für ihr Kind bereits ihr Wunschlied ausgesucht. Es ist ein wundervoller Titel\, den ich sehr gerne für sie einstudiere „Ich wünsch dir“ von Sarah Connor. Der Titel beinhaltet so viele tolle Wünsche für die Zukunft. \nAuszug:\nIch wünsch‘ dir all das Glück dieser Welt\nUnd\, dass sie sich für dich noch ganz lange dreht\nIch wünsch‘ dir Mut und Vertrauen in dich selbst\nUnd keine Angst\, die falschen Fragen zu stellen\nIch wünsch‘ dir keine Angst\, ’n dickes Fell\, und\n‚Ne Liebe\, die hält
URL:https://www.sandrapatsis.de/event/taufgottesdienst-5/
CATEGORIES:Taufe
END:VEVENT
BEGIN:VEVENT
DTSTART;TZID=Europe/Berlin:20220611T110000
DTEND;TZID=Europe/Berlin:20220611T120000
DTSTAMP:20260423T114950
CREATED:20220523T150709Z
LAST-MODIFIED:20220523T152452Z
UID:1446-1654945200-1654948800@www.sandrapatsis.de
SUMMARY:Taufgottesdienst
DESCRIPTION:Doppelbuchungen über den gesamten Juni 2022\nAm 11. Juni 2022 bin ich wieder zwei Mal im Einsatz und darf in den frühen Morgenstunden den Taufgottesdienst von Thore in der St. Bonifatius in Messel musikalisch umrahmen. \nAnschließend bin ich um 15 Uhr im Hofgut Habitzheim bei einer Trauung für die musikalische Umrahmung zuständig. \nIch freue mich schon sehr auf die musikalischen Samstage in den nächsten Wochen.
URL:https://www.sandrapatsis.de/event/taufgottesdienst/
CATEGORIES:Taufe
END:VEVENT
END:VCALENDAR